BEGIN:VCALENDAR
VERSION:2.0
PRODID:-//J-TECH SYSTEM - ECPv6.3.5//NONSGML v1.0//EN
CALSCALE:GREGORIAN
METHOD:PUBLISH
X-WR-CALNAME:J-TECH SYSTEM
X-ORIGINAL-URL:https://jtech.my
X-WR-CALDESC:Events for J-TECH SYSTEM
REFRESH-INTERVAL;VALUE=DURATION:PT1H
X-Robots-Tag:noindex
X-PUBLISHED-TTL:PT1H
BEGIN:VTIMEZONE
TZID:UTC
BEGIN:STANDARD
TZOFFSETFROM:+0000
TZOFFSETTO:+0000
TZNAME:UTC
DTSTART:20250101T000000
END:STANDARD
END:VTIMEZONE
BEGIN:VEVENT
DTSTART;TZID=UTC:20251223T100000
DTEND;TZID=UTC:20251223T110000
DTSTAMP:20260419T233249
CREATED:20251128T094347Z
LAST-MODIFIED:20251128T094347Z
UID:3169-1766484000-1766487600@jtech.my
SUMMARY:Online : AutoCount POS QR Online Training [English Session]
DESCRIPTION:Join our AutoCount POS QR Online Training by J-Tech System and get practical tips to stay ahead with Malaysia’s LHDN e-Invoicing requirements! \n  \nDate : 23/12/2025\, Tuesday \nTime : 10:00am to 11:00am \nLanguage : English \nPlatform : Virtual Webinar (Zoom) \n  \nContent Cover : \n\nVirtual demonstration of how AutoCount POS integrates e-Invoicing\nTips to prepare your POS for LHDN’s e-Invoice requirements\nNote: Attendees are expected to have basic knowledge of the e-Invoice concept.\n\n  \nRegister now to secure your spot : \nhttps://us06web.zoom.us/webinar/register/WN_0DobAo0iT96DrXzvB4BxWQ \n  \nFor more information\, visit our website at http://www.jtech.my/hello or call us at +6011-6740 3628
URL:https://jtech.my/events/online-autocount-pos-qr-online-training-english-session/
LOCATION:ONLINE TRAINING PLATFORM
CATEGORIES:Online Training
ATTACH;FMTTYPE=image/png:https://jtech.my/wp-content/uploads/2025/11/AutoCount-POS-QR-Online-Training.png
ORGANIZER;CN="J-TECH SYSTEM SDN BHD":MAILTO:info@jtech.my
END:VEVENT
BEGIN:VEVENT
DTSTART;TZID=UTC:20251223T143000
DTEND;TZID=UTC:20251223T163000
DTSTAMP:20260419T233249
CREATED:20251106T040317Z
LAST-MODIFIED:20251120T045918Z
UID:3136-1766500200-1766507400@jtech.my
SUMMARY:Online : AutoCount E-Invoice Online Training [English Session]
DESCRIPTION:Learn how to activate the e-Invoice module and start issuing e-Invoices through AutoCount. This online training will help you understand and provides guidance to help you get started! \n  \nDate :  \n\n23/12/2025 Tuesday\, 2:30pm to 4:30pm [English Session]\n\n  \nPlatform : Zoom (Online) \n  \nWho Should Join? \n\nPerson in charge that preparing for e-Invoice implementation\nUsers who operates AutoCount Accounting especially in Finance and Sales/Billing Departments\n\n  \nWhy Should Join? \n\nDiscover & understand how AutoCount manages e-Invoicing\nLearn to fully utilize the AutoCount e-Invoicing module with practical\, hands-on training\n\n  \n👉 Register now to join\nhttps://us06web.zoom.us/webinar/register/WN_-g0sgCb6TB2tT0HAzvHvLw \n  \nTerms & Condition Applied \n\nOpen to J-Tech System customers only\nCustomer must have an active support plan\n\n  \n✨ Don’t miss out! Register now to secure your spot and get ready for the future of e-Invoicing! \nFor more information\, visit our website at http://www.jtech.my/hello or call us at +6011-6740 3628
URL:https://jtech.my/events/online-autocount-e-invoice-online-training-english-session/
LOCATION:ONLINE TRAINING PLATFORM
CATEGORIES:Online Training
ATTACH;FMTTYPE=image/jpeg:https://jtech.my/wp-content/uploads/2025/10/WhatsApp-Image-2025-06-26-at-09.34.45_10404153.jpg
ORGANIZER;CN="J-TECH SYSTEM SDN BHD":MAILTO:info@jtech.my
END:VEVENT
END:VCALENDAR