BEGIN:VCALENDAR
VERSION:2.0
PRODID:-//J-TECH SYSTEM - ECPv6.3.5//NONSGML v1.0//EN
CALSCALE:GREGORIAN
METHOD:PUBLISH
X-WR-CALNAME:J-TECH SYSTEM
X-ORIGINAL-URL:https://jtech.my
X-WR-CALDESC:Events for J-TECH SYSTEM
REFRESH-INTERVAL;VALUE=DURATION:PT1H
X-Robots-Tag:noindex
X-PUBLISHED-TTL:PT1H
BEGIN:VTIMEZONE
TZID:UTC
BEGIN:STANDARD
TZOFFSETFROM:+0000
TZOFFSETTO:+0000
TZNAME:UTC
DTSTART:20260101T000000
END:STANDARD
END:VTIMEZONE
BEGIN:VEVENT
DTSTART;TZID=UTC:20260416T143000
DTEND;TZID=UTC:20260416T160000
DTSTAMP:20260419T153455
CREATED:20260309T035152Z
LAST-MODIFIED:20260309T035152Z
UID:3204-1776349800-1776355200@jtech.my
SUMMARY:Online : AutoCount HRMS Webinar [English Session]
DESCRIPTION:Don’t Miss Our AutoCount HRMS Webinar!\nStruggling with complex payroll calculations\, tracking employee leave\, or ensuring compliance with EPF\, SOCSO\, and EIS? Managing payroll can be challenging with the need for accurate calculations and regulatory compliance. But don’t worry — AutoCount HRMS is here to make it easier! \n  \nJoin our upcoming AutoCount HRMS Webinar to discover how you can simplify and enhance your HR and payroll processes. Don’t miss this opportunity to transform your HR and payroll operations! \n  \nWebinar Schedule :\nDate : 16th April 2026 – Thursday\nTime : 2:30pm to 4:00pm\nPlatform : Virtual Webinar (Microsoft Teams)\nLanguage : English \n  \nWhat to Expect : \n\nA comprehensive demo of AutoCount HRMS features\nTools to streamline payroll\, leave management\, and employee tracking\nDiscover how AutoCount HRMS can boost your HR operations\n\n  \n👉 Register now & save your spot!\nhttps://events.teams.microsoft.com/event/2e1da806-86f9-4ffe-bf9f-6886d6ca9a03@5cbc9d83-459a-4add-b04d-4cf256658a70 \n  \nDon’t miss this chance to upgrade your HR processes and discover a smarter way to manage your team! \n  \nFor more information\, visit our website at http://www.jtech.my/hello or call us at +6011-6740 3628
URL:https://jtech.my/events/online-autocount-hrms-webinar-english-session-3/
LOCATION:ONLINE TRAINING PLATFORM
CATEGORIES:Online Training
ATTACH;FMTTYPE=image/png:https://jtech.my/wp-content/uploads/2026/03/HRMS-Webinar-3.png
ORGANIZER;CN="J-TECH SYSTEM SDN BHD":MAILTO:info@jtech.my
END:VEVENT
END:VCALENDAR