BEGIN:VCALENDAR
VERSION:2.0
PRODID:-//J-TECH SYSTEM - ECPv6.3.5//NONSGML v1.0//EN
CALSCALE:GREGORIAN
METHOD:PUBLISH
X-WR-CALNAME:J-TECH SYSTEM
X-ORIGINAL-URL:https://jtech.my
X-WR-CALDESC:Events for J-TECH SYSTEM
REFRESH-INTERVAL;VALUE=DURATION:PT1H
X-Robots-Tag:noindex
X-PUBLISHED-TTL:PT1H
BEGIN:VTIMEZONE
TZID:UTC
BEGIN:STANDARD
TZOFFSETFROM:+0000
TZOFFSETTO:+0000
TZNAME:UTC
DTSTART:20250101T000000
END:STANDARD
END:VTIMEZONE
BEGIN:VEVENT
DTSTART;TZID=UTC:20251210T140000
DTEND;TZID=UTC:20251210T180000
DTSTAMP:20260420T011242
CREATED:20251105T093620Z
LAST-MODIFIED:20251105T094320Z
UID:3113-1765375200-1765389600@jtech.my
SUMMARY:Physical : AutoCount E-Invoice Hands-on Workshop [Mandarin Session]
DESCRIPTION:🔥 Due to overwhelming demand\, we’re adding an additional session for our hands-on AutoCount E-Invoice Workshop! \nIf you missed out on earlier dates\, here’s your chance to secure a spot. Don’t wait too long — seats are limited! \n  \nDate : \n\n10/12/2025 Wednesday\, 2:00pm to 6:00pm [Mandarin Session] (Limited Seat)\n\n  \nLocation : Skill Space @ J-Tech System\, First Floor\, No. 36\, Persiaran Mergastua\, Kepong Baru\, 52100 Kuala Lumpur\, Wilayah Persekutuan Kuala Lumpur \n  \nWho Should Join? \n\nYour company is included in the Phase 4 (Priority) stage for e-Invoice implementation.\nUsers who operates AutoCount Accounting especially in Finance and Sales/Billing Departments\nExisting e-Invoice users seeking a refresher and deeper insights\n\n  \nWhy Should Join? \n\nDiscover & understand how AutoCount manages e-Invoicing\nLearn to fully utilize the AutoCount e-Invoicing module with practical\, step-by-step learning\nRefresh your knowledge and gain confidence in daily operations\n\n  \n👉 Register now to secure your spot:\nhttps://forms.office.com/r/httmVaSgEH \n  \n✨ Whether you’re just getting started or already using e-Invoicing\, this workshop will help you stay ahead and fully prepared. \n  \nWe look forward to seeing you at the workshop!
URL:https://jtech.my/events/physical-autocount-e-invoice-hands-on-workshop-mandarin-session/
LOCATION:J-TECH SYSTEM SDN BHD\, No. 36\, Persiaran Mergastua\, Kepong Baru\, Kuala Lumpur\, 52100\, Malaysia
CATEGORIES:Physical Workshop
ATTACH;FMTTYPE=image/png:https://jtech.my/wp-content/uploads/2025/10/AutoCount-e-Invoice-Workshops.png
ORGANIZER;CN="J-TECH SYSTEM SDN BHD":MAILTO:info@jtech.my
END:VEVENT
BEGIN:VEVENT
DTSTART;TZID=UTC:20251208T140000
DTEND;TZID=UTC:20251208T170000
DTSTAMP:20260420T011242
CREATED:20251103T101310Z
LAST-MODIFIED:20251106T022717Z
UID:3101-1765202400-1765213200@jtech.my
SUMMARY:Physical : ABSS E-Invoice Hands-on Workshop [English Session]
DESCRIPTION:🔥 We are back with a new round of hands-on ABSS e-Invoice Workshops!\nThis is your chance to learn\, refresh and to gain practical experience and deepen your understanding of ABSS e-Invoicing features. Don’t wait too long — seats are limited! \n  \nDate : \n\n08/12/2025 Monday\, 2:00pm to 5:00pm [English Session] (Limited Seat)\n\n  \nLocation : J-Tech System\, 1st Floor\, No. 36\, Persiaran Mergastua\, Kepong Baru\, 52100 Kuala Lumpur\, Wilayah Persekutuan Kuala Lumpur \n  \nWho Should Join? \n\nYour company is included in the Phase 4 (Priority) stage for e-Invoice implementation.\nUsers who operates ABSS Accounting especially in Finance and Sales/Billing Departments\nExisting e-Invoice users seeking a refresher and deeper insights\n\n  \nWhy Should Join? \n\nDiscover & understand how ABSS manages e-Invoicing\nLearn to fully utilize the ABSS e-Invoicing module with practical\, step-by-step learning\nRefresh your knowledge and gain confidence in daily operations\n\n  \n👉 Register now to secure your spot :\nhttps://forms.office.com/r/Z07wg8AvDz \n  \n✨ Whether you’re just getting started or already using e-Invoicing\, this workshop will help you stay ahead and fully prepared. \n  \nFor more information\, visit our website at www.jtech.my or call us at +603-62752718.
URL:https://jtech.my/events/j-tech-system-abss-e-invoice-hands-on-workshop-english-session/
LOCATION:J-TECH SYSTEM SDN BHD\, No. 36\, Persiaran Mergastua\, Kepong Baru\, Kuala Lumpur\, 52100\, Malaysia
CATEGORIES:Physical Workshop
ATTACH;FMTTYPE=image/png:https://jtech.my/wp-content/uploads/2025/11/ABSS-Webinar.png
ORGANIZER;CN="J-TECH SYSTEM SDN BHD":MAILTO:info@jtech.my
END:VEVENT
BEGIN:VEVENT
DTSTART;TZID=UTC:20251204T143000
DTEND;TZID=UTC:20251204T160000
DTSTAMP:20260420T011242
CREATED:20251120T033020Z
LAST-MODIFIED:20251120T033020Z
UID:3153-1764858600-1764864000@jtech.my
SUMMARY:Online : Introduction to AutoCount Cloud Accounting Webinar [English Session]
DESCRIPTION:Are you ready to elevate your accounting with cloud-based solutions? Don’t miss our Introduction to Autocount Cloud Accounting webinar\, where we’ll dive into the features and benefits of Autocount’s cloud accounting software\, including how it handles e-invoices! \nWebinar Details :\nDate: 04/12/2025 Thursday (English Session)\nTime: 2:30pm – 04:00pm\nPlatform: Virtual Webinar (Zoom) \n𝗪𝗵𝗮𝘁 𝘁𝗼 𝗘𝘅𝗽𝗲𝗰𝘁:\n* 𝗦𝘁𝗿𝗲𝗮𝗺𝗹𝗶𝗻𝗲 𝗬𝗼𝘂𝗿 𝗪𝗼𝗿𝗸𝗳𝗹𝗼𝘄: Learn how Autocount Cloud Accounting can optimize your accounting processes.\n* 𝗖𝗼𝗺𝗽𝗿𝗲𝗵𝗲𝗻𝘀𝗶𝘃𝗲 𝗢𝘃𝗲𝗿𝘃𝗶𝗲𝘄: Get a detailed look at its powerful features and user-friendly interface.\n* 𝗘𝗻𝗵𝗮𝗻𝗰𝗲 𝗘𝗳𝗳𝗶𝗰𝗶𝗲𝗻𝗰𝘆: Discover how cloud-based accounting can boost your business operations.\n* 𝗘-𝗜𝗻𝘃𝗼𝗶𝗰𝗲 𝗥𝗲𝗮𝗱𝘆: Discover how Autocount Cloud Accounting handles e-invoices \n  \nDon’t miss this opportunity to see how Autocount Cloud Accounting can transform your business! \n  \n🎟 𝗥𝗲𝗴𝗶𝘀𝘁𝗲𝗿 𝗻𝗼𝘄 𝘁𝗼 𝗷𝗼𝗶𝗻 𝘁𝗵𝗶𝘀 𝘄𝗲𝗯𝗶𝗻𝗮𝗿!\nhttps://us06web.zoom.us/webinar/register/WN_eBzMYYC7QTiC6UicOi0y3Q \n  \nFor more information\, visit our website at http://www.jtech.my/hello or call us at +6011-6740 3628
URL:https://jtech.my/events/online-introduction-to-autocount-cloud-accounting-webinar-english-session/
LOCATION:ONLINE TRAINING PLATFORM
CATEGORIES:Online Training
ATTACH;FMTTYPE=image/png:https://jtech.my/wp-content/uploads/2025/11/Introduction-to-Autocount-Cloud-Accounting-Webinar-1.png
ORGANIZER;CN="J-TECH SYSTEM SDN BHD":MAILTO:info@jtech.my
END:VEVENT
BEGIN:VEVENT
DTSTART;TZID=UTC:20251203T143000
DTEND;TZID=UTC:20251203T163000
DTSTAMP:20260420T011242
CREATED:20251121T020213Z
LAST-MODIFIED:20251121T020213Z
UID:3163-1764772200-1764779400@jtech.my
SUMMARY:Online : AutoCount E-Invoice Online Training [English Session]
DESCRIPTION:Learn how to activate the e-Invoice module and start issuing e-Invoices through AutoCount. This online training will help you understand and provides guidance to help you get started! \n  \nDate :  \n\n03/12/2025 Wednesday\, 2:30pm to 4:30pm [English Session]\n\n  \nPlatform : Virtual Webinar (Zoom) \n  \nWho Should Join? \n\nPerson in charge that preparing for e-Invoice implementation\nUsers who operates AutoCount Accounting especially in Finance and Sales/Billing Departments\n\n  \nWhy Should Join? \n\nDiscover & understand how AutoCount manages e-Invoicing\nLearn to fully utilize the AutoCount e-Invoicing module with practical\, hands-on training\n\n  \n👉 Register now to join\nhttps://us06web.zoom.us/webinar/register/WN_-g0sgCb6TB2tT0HAzvHvLw \n  \nTerms & Condition Applied \n\nOpen to J-Tech System customers only\nCustomer must have an active support plan\n\n  \n✨ Don’t miss out! Register now to secure your spot and get ready for the future of e-Invoicing! \n  \nFor more information\, visit our website at http://www.jtech.my/hello or call us at +6011-6740 3628
URL:https://jtech.my/events/online-autocount-e-invoice-online-training-english-session-2/
LOCATION:ONLINE TRAINING PLATFORM
CATEGORIES:Online Training
ATTACH;FMTTYPE=image/jpeg:https://jtech.my/wp-content/uploads/2025/10/WhatsApp-Image-2025-06-26-at-09.34.45_10404153.jpg
ORGANIZER;CN="J-TECH SYSTEM SDN BHD":MAILTO:info@jtech.my
END:VEVENT
BEGIN:VEVENT
DTSTART;TZID=UTC:20251127T143000
DTEND;TZID=UTC:20251127T163000
DTSTAMP:20260420T011242
CREATED:20251106T040501Z
LAST-MODIFIED:20251106T083132Z
UID:3134-1764253800-1764261000@jtech.my
SUMMARY:Online : AutoCount E-Invoice Online Training [Mandarin Session]
DESCRIPTION:Learn how to activate the e-Invoice module and start issuing e-Invoices through AutoCount. This online training will help you understand and provides guidance to help you get started! \n  \nDate :  \n\n27/11/2025 Thursday\, 2:30pm to 4:30pm [Mandarin Session]\n\n  \nPlatform : Zoom (Online) \n  \nWho Should Join? \n\nPerson in charge that preparing for e-Invoice implementation\nUsers who operates AutoCount Accounting especially in Finance and Sales/Billing Departments\n\n  \nWhy Should Join? \n\nDiscover & understand how AutoCount manages e-Invoicing\nLearn to fully utilize the AutoCount e-Invoicing module with practical\, hands-on training\n\n  \n👉 Register now to join\nhttps://us06web.zoom.us/webinar/register/WN_yazFgjEiRCGIVtJWVZuqOQ \n  \nTerms & Condition Applied \n\nOpen to J-Tech System customers only\nCustomer must have an active support plan\n\n  \n✨ Don’t miss out! Register now to secure your spot and get ready for the future of e-Invoicing! \nFor more information\, visit our website at www.jtech.my or call us at +6011-6740 3628
URL:https://jtech.my/events/online-autocount-e-invoice-online-training-mandarin-session-2/
LOCATION:ONLINE TRAINING PLATFORM
CATEGORIES:Online Training
ATTACH;FMTTYPE=image/jpeg:https://jtech.my/wp-content/uploads/2025/10/WhatsApp-Image-2025-06-26-at-09.34.45_10404153.jpg
ORGANIZER;CN="J-TECH SYSTEM SDN BHD":MAILTO:info@jtech.my
END:VEVENT
BEGIN:VEVENT
DTSTART;TZID=UTC:20251120T143000
DTEND;TZID=UTC:20251120T160000
DTSTAMP:20260420T011242
CREATED:20251106T033957Z
LAST-MODIFIED:20251106T083232Z
UID:3128-1763649000-1763654400@jtech.my
SUMMARY:Online : AutoCount HRMS Webinar [English Session]
DESCRIPTION:💥𝗗𝗼𝗻’𝘁 𝗠𝗶𝘀𝘀 𝗢𝘂𝗿 𝗔𝘂𝘁𝗼𝗖𝗼𝘂𝗻𝘁 𝗛𝗥𝗠𝗦 𝗪𝗲𝗯𝗶𝗻𝗮𝗿!\nStruggling with complex payroll calculations\, tracking employee leave\, or ensuring compliance with EPF\, SOCSO\, and EIS? Managing payroll can be challenging with the need for accurate calculations and regulatory compliance. But don’t worry — AutoCount HRMS is here to make it easier! \n  \nJoin our upcoming AutoCount HRMS Webinar to discover how you can simplify and enhance your HR and payroll processes. Don’t miss this opportunity to transform your HR and payroll operations! \n  \nWebinar Schedule :\nDate : 20th November 2025 – Thursday\nTime : 2:30pm to 4:00pm\nPlatform : Online (Zoom)\nLanguage : English \n  \nWhat to Expect : \n\nA comprehensive demo of AutoCount HRMS features\nTools to streamline payroll\, leave management\, and employee tracking\nDiscover how AutoCount HRMS can boost your HR operations\n\n  \n👉 Register now & save your spot!\nhttps://us06web.zoom.us/webinar/register/WN_nRsGHEp-TEOa61dDSQ_trA \n  \nDon’t miss this chance to upgrade your HR processes and discover a smarter way to manage your team! \n  \nFor more information\, visit our website at www.jtech.my or call us at +6011-6740 3628
URL:https://jtech.my/events/online-autocount-hrms-webinar-english-session/
LOCATION:ONLINE TRAINING PLATFORM
CATEGORIES:Online Training
ATTACH;FMTTYPE=image/png:https://jtech.my/wp-content/uploads/2025/11/HRMS-Webinar-20112025.png
ORGANIZER;CN="J-TECH SYSTEM SDN BHD":MAILTO:info@jtech.my
END:VEVENT
BEGIN:VEVENT
DTSTART;TZID=UTC:20251112T140000
DTEND;TZID=UTC:20251112T180000
DTSTAMP:20260420T011242
CREATED:20251006T043829Z
LAST-MODIFIED:20251105T094307Z
UID:3078-1762956000-1762970400@jtech.my
SUMMARY:Physical : AutoCount E-Invoice Hands-on Workshop [English Session]
DESCRIPTION:🔥 We are back with a new round of hands-on AutoCount e-Invoice Workshops!\nThis is your chance to learn\, refresh and to gain practical experience and deepen your understanding of AutoCount’s e-Invoicing features. Don’t wait too long — seats are limited! \n  \nDate : \n\n12/11/2025 Wednesday\, 2:00pm to 6:00pm [English Session] (Limited Seat)\n\n  \nLocation : Skill Space @ J-Tech System\, First Floor\, No. 36\, Persiaran Mergastua\, Kepong Baru\, 52100 Kuala Lumpur\, Wilayah Persekutuan Kuala Lumpur \n  \nWho Should Join? \n\nYour company is included in the Phase 4 (Priority) stage for e-Invoice implementation.\nUsers who operates AutoCount Accounting especially in Finance and Sales/Billing Departments\nExisting e-Invoice users seeking a refresher and deeper insights\n\n  \nWhy Should Join? \n\nDiscover & understand how AutoCount manages e-Invoicing\nLearn to fully utilize the AutoCount e-Invoicing module with practical\, step-by-step learning\nRefresh your knowledge and gain confidence in daily operations\n\n  \n👉 Register now to secure your spot:\nhttps://forms.office.com/r/httmVaSgEH \n  \n✨ Whether you’re just getting started or already using e-Invoicing\, this workshop will help you stay ahead and fully prepared. \n  \nWe look forward to seeing you at the workshop!
URL:https://jtech.my/events/j-tech-system-autocount-e-invoice-hands-on-workshop-english-session/
LOCATION:J-TECH SYSTEM SDN BHD\, No. 36\, Persiaran Mergastua\, Kepong Baru\, Kuala Lumpur\, 52100\, Malaysia
CATEGORIES:Physical Workshop
ATTACH;FMTTYPE=image/png:https://jtech.my/wp-content/uploads/2025/10/AutoCount-e-Invoice-Workshops.png
ORGANIZER;CN="J-TECH SYSTEM SDN BHD":MAILTO:info@jtech.my
END:VEVENT
BEGIN:VEVENT
DTSTART;TZID=UTC:20251105T140000
DTEND;TZID=UTC:20251105T180000
DTSTAMP:20260420T011242
CREATED:20251006T031614Z
LAST-MODIFIED:20251104T023447Z
UID:3057-1762351200-1762365600@jtech.my
SUMMARY:Physical : AutoCount E-Invoice Hands-on Workshop [Mandarin Session]
DESCRIPTION:🔥 We are back with a new round of hands-on AutoCount e-Invoice Workshops!\nThis is your chance to learn\, refresh and to gain practical experience and deepen your understanding of AutoCount’s e-Invoicing features. Don’t wait too long — seats are limited! \n  \nDates : \n\n05/11/2025 Wednesday\, 2:00pm to 6:00pm [Mandarin Session] (Limited Seat)\n\n  \nLocation : J-Tech System\, No. 36\, Persiaran Mergastua\, Kepong Baru\, 52100 Kuala Lumpur\, Wilayah Persekutuan Kuala Lumpur \n  \nWho Should Join? \n\nYour company is included in the Phase 4 (Priority) stage for e-Invoice implementation.\nUsers who operates AutoCount Accounting especially in Finance and Sales/Billing Departments\nExisting e-Invoice users seeking a refresher and deeper insights\n\n  \nWhy Should Join? \n\nDiscover & understand how AutoCount manages e-Invoicing\nLearn to fully utilize the AutoCount e-Invoicing module with practical\, step-by-step learning\nRefresh your knowledge and gain confidence in daily operations\n\n  \n👉 Register now to secure your spot:\nhttps://forms.office.com/r/httmVaSgEH \n  \n✨ Whether you’re just getting started or already using e-Invoicing\, this workshop will help you stay ahead and fully prepared. \n  \nWe look forward to seeing you at the workshop!
URL:https://jtech.my/events/j-tech-system-autocount-e-invoice-hands-on-workshop/
LOCATION:J-TECH SYSTEM SDN BHD\, No. 36\, Persiaran Mergastua\, Kepong Baru\, Kuala Lumpur\, 52100\, Malaysia
CATEGORIES:Physical Workshop
ATTACH;FMTTYPE=image/png:https://jtech.my/wp-content/uploads/2025/10/AutoCount-e-Invoice-Workshops.png
ORGANIZER;CN="J-TECH SYSTEM SDN BHD":MAILTO:info@jtech.my
END:VEVENT
BEGIN:VEVENT
DTSTART;TZID=UTC:20251029T143000
DTEND;TZID=UTC:20251029T173000
DTSTAMP:20260420T011242
CREATED:20251006T045122Z
LAST-MODIFIED:20251104T023511Z
UID:3082-1761748200-1761759000@jtech.my
SUMMARY:Online : AutoCount Refresher Training [Mandarin Session]
DESCRIPTION:AutoCount Online Training – Exclusively for Active Support Plan Customers! \n  \nDon’t miss this opportunity! We’re pleased to invite you and your team to join our upcoming AutoCount Online Training\, created to boost your skills and efficiency. \n  \nDate : \n\n29/10/2025 Wednesday\, 2:30pm to 5:30pm [Mandarin Session]\n\n  \nPlatform : Zoom (Online) \n  \nWho Should Attend? \n\nNew staff who need onboarding\nExisting users looking to refresh their skills\n\n  \nWhat You’ll Learn : \n\nHow to enter daily sales and payments\nManaging customer and supplier records\nInventory in & out procedures\nHandling purchase and sales transactions\nBasic Report Generation\nTips to Avoid Common Mistakes\n\n  \n👉 Reserve Your Spot Now! \nhttps://us06web.zoom.us/webinar/register/WN_YV-PCKDmSPG07BSCGuG9xA \n  \nTerms & Condition Applied \n\nOpen to J-Tech System customers only\nCustomer must have an active support plan\n\n  \nWe’re here to help your team make the most of AutoCount!
URL:https://jtech.my/events/autocount-online-training-exclusively-for-active-support-plan-customers-mandarin-session/
LOCATION:ONLINE TRAINING PLATFORM
CATEGORIES:Online Training
ATTACH;FMTTYPE=image/jpeg:https://jtech.my/wp-content/uploads/2025/10/29102025.jpg
ORGANIZER;CN="J-TECH SYSTEM SDN BHD":MAILTO:info@jtech.my
END:VEVENT
BEGIN:VEVENT
DTSTART;TZID=UTC:20251015T143000
DTEND;TZID=UTC:20251015T163000
DTSTAMP:20260420T011242
CREATED:20251006T032055Z
LAST-MODIFIED:20251104T023525Z
UID:3064-1760538600-1760545800@jtech.my
SUMMARY:Online : AutoCount E-Invoice Online Training [Mandarin Session]
DESCRIPTION:Learn how to activate the e-Invoice module and start issuing e-Invoices through AutoCount. This online training will help you understand and provides guidance to help you get started! \n  \nDate :  \n\n15/10/2025 Wednesday\, 2:30pm to 4:30pm [Mandarin Session]\n\n  \nPlatform : Zoom (Online) \n  \nWho Should Join? \n\nPerson in charge that preparing for e-Invoice implementation\nUsers who operates AutoCount Accounting especially in Finance and Sales/Billing Departments\n\n  \nWhy Should Join? \n\nDiscover & understand how AutoCount manages e-Invoicing\nLearn to fully utilize the AutoCount e-Invoicing module with practical\, hands-on training\n\n  \n👉 Register now to join\nhttps://us06web.zoom.us/webinar/register/WN_AelRxVQjRui5gGMF0yPGIQ\n \n  \nTerms & Condition Applied \n\nOpen to J-Tech System customers only\nCustomer must have an active support plan\nUp to 3 attendees per company\n\n  \n✨ Don’t miss out! Register now to secure your spot and get ready for the future of e-Invoicing!
URL:https://jtech.my/events/j-tech-system-autocount-e-invoice-online-training/
LOCATION:ONLINE TRAINING PLATFORM
CATEGORIES:Online Training
ATTACH;FMTTYPE=image/jpeg:https://jtech.my/wp-content/uploads/2025/10/WhatsApp-Image-2025-06-26-at-09.34.45_10404153.jpg
ORGANIZER;CN="J-TECH SYSTEM SDN BHD":MAILTO:info@jtech.my
END:VEVENT
END:VCALENDAR